BEGIN:VCALENDAR
VERSION:2.0
PRODID:-//Masterson Equestrian Trust - ECPv6.15.20//NONSGML v1.0//EN
CALSCALE:GREGORIAN
METHOD:PUBLISH
X-ORIGINAL-URL:https://mastersonequestrian.org
X-WR-CALDESC:Events for Masterson Equestrian Trust
REFRESH-INTERVAL;VALUE=DURATION:PT1H
X-Robots-Tag:noindex
X-PUBLISHED-TTL:PT1H
BEGIN:VTIMEZONE
TZID:UTC
BEGIN:STANDARD
TZOFFSETFROM:+0000
TZOFFSETTO:+0000
TZNAME:UTC
DTSTART:20170101T000000
END:STANDARD
END:VTIMEZONE
BEGIN:VEVENT
DTSTART;VALUE=DATE:20180421
DTEND;VALUE=DATE:20180423
DTSTAMP:20260424T051931
CREATED:20180217T014718Z
LAST-MODIFIED:20180312T152016Z
UID:1096-1524268800-1524441599@mastersonequestrian.org
SUMMARY:MET Benefit Hunter/Jumper Show
DESCRIPTION:Proceeds from the Masterson Equestrian Trust (MET) Benefit Hunter/Jumper Show allow for the maintenance and improvement of the equine facilities at Masterson Station Park. The Park\, located off Leestown Road in Lexington\, Ky.\, is open to any equestrian who is interested in trail riding\, riding in the hunter show ring or dressage rings\, cross-country schooling or those who simply wish to enjoy their horse. \nThe MET Benefit show in April is the one of the first outdoor horse shows of the new competition year; this show draws many trainers and riders from around the Bluegrass to a friendly and welcoming horse-show environment. \nShow dates for 2018 are:\nSaturday\, April 21\, Hunter Day\nSunday\, April 22\, Jumper Day \n  \n 
URL:https://mastersonequestrian.org/event/met-benefit-hunter-jumper-show/
LOCATION:Masterson Station Park\, 3051 Leestown Rd\, Lexington\, KY\, 40356\, United States
ORGANIZER;CN="Sarah Coleman":MAILTO:sarahc232@hotmail.com
END:VEVENT
END:VCALENDAR