BEGIN:VCALENDAR
VERSION:2.0
PRODID:-//Masterson Equestrian Trust - ECPv6.15.20//NONSGML v1.0//EN
CALSCALE:GREGORIAN
METHOD:PUBLISH
X-WR-CALNAME:Masterson Equestrian Trust
X-ORIGINAL-URL:https://mastersonequestrian.org
X-WR-CALDESC:Events for Masterson Equestrian Trust
REFRESH-INTERVAL;VALUE=DURATION:PT1H
X-Robots-Tag:noindex
X-PUBLISHED-TTL:PT1H
BEGIN:VTIMEZONE
TZID:UTC
BEGIN:STANDARD
TZOFFSETFROM:+0000
TZOFFSETTO:+0000
TZNAME:UTC
DTSTART:20170101T000000
END:STANDARD
END:VTIMEZONE
BEGIN:VEVENT
DTSTART;TZID=UTC:20180825T100000
DTEND;TZID=UTC:20180825T140000
DTSTAMP:20260423T233207
CREATED:20180730T135923Z
LAST-MODIFIED:20180730T135923Z
UID:1186-1535191200-1535205600@mastersonequestrian.org
SUMMARY:MET's Annual Workday
DESCRIPTION:Come join the fun! Bring friends!
URL:https://mastersonequestrian.org/event/mets-annual-workday/
LOCATION:Masterson Station Park\, 3051 Leestown Rd\, Lexington\, KY\, 40356\, United States
ORGANIZER;CN="Jenny Van Wieren-Page":MAILTO:msugradjvw@yahoo.com
END:VEVENT
END:VCALENDAR