BEGIN:VCALENDAR
VERSION:2.0
PRODID:-//Masterson Equestrian Trust - ECPv6.15.20//NONSGML v1.0//EN
CALSCALE:GREGORIAN
METHOD:PUBLISH
X-WR-CALNAME:Masterson Equestrian Trust
X-ORIGINAL-URL:https://mastersonequestrian.org
X-WR-CALDESC:Events for Masterson Equestrian Trust
REFRESH-INTERVAL;VALUE=DURATION:PT1H
X-Robots-Tag:noindex
X-PUBLISHED-TTL:PT1H
BEGIN:VTIMEZONE
TZID:UTC
BEGIN:STANDARD
TZOFFSETFROM:+0000
TZOFFSETTO:+0000
TZNAME:UTC
DTSTART:20180101T000000
END:STANDARD
END:VTIMEZONE
BEGIN:VEVENT
DTSTART;TZID=UTC:20190407T080000
DTEND;TZID=UTC:20190407T170000
DTSTAMP:20260423T121602
CREATED:20190215T175057Z
LAST-MODIFIED:20190215T175057Z
UID:1305-1554624000-1554656400@mastersonequestrian.org
SUMMARY:Spring Bay HT
DESCRIPTION:
URL:https://mastersonequestrian.org/event/spring-bay-ht/
ORGANIZER;CN="Mary Fike":MAILTO:hmf@iglou.com
END:VEVENT
END:VCALENDAR