BEGIN:VCALENDAR
VERSION:2.0
PRODID:-//Masterson Equestrian Trust - ECPv6.15.20//NONSGML v1.0//EN
CALSCALE:GREGORIAN
METHOD:PUBLISH
X-ORIGINAL-URL:https://mastersonequestrian.org
X-WR-CALDESC:Events for Masterson Equestrian Trust
REFRESH-INTERVAL;VALUE=DURATION:PT1H
X-Robots-Tag:noindex
X-PUBLISHED-TTL:PT1H
BEGIN:VTIMEZONE
TZID:UTC
BEGIN:STANDARD
TZOFFSETFROM:+0000
TZOFFSETTO:+0000
TZNAME:UTC
DTSTART:20230101T000000
END:STANDARD
END:VTIMEZONE
BEGIN:VEVENT
DTSTART;TZID=UTC:20241103T080000
DTEND;TZID=UTC:20241103T150000
DTSTAMP:20260421T100037
CREATED:20231106T195525Z
LAST-MODIFIED:20241008T124351Z
UID:1810-1730620800-1730646000@mastersonequestrian.org
SUMMARY:Met Benefit Hunter Pace and Trail Obstacles\, presented by Rood and Riddle Equine Hospital
DESCRIPTION:Wondering where to park? Here you go!! https://mastersonequestrian.org/about-masterson/trailer-parking/ \n  \nClick the link below for some exciting\, new Sponsorship Opportunities!\nMET HP 2024 Sponsorships FINAL
URL:https://mastersonequestrian.org/event/met-benefit-hunter-pace-2/
LOCATION:Masterson Station Park\, 3051 Leestown Rd\, Lexington\, KY\, 40356\, United States
END:VEVENT
END:VCALENDAR