BEGIN:VCALENDAR
VERSION:2.0
PRODID:-//Masterson Equestrian Trust - ECPv6.15.20//NONSGML v1.0//EN
CALSCALE:GREGORIAN
METHOD:PUBLISH
X-ORIGINAL-URL:https://mastersonequestrian.org
X-WR-CALDESC:Events for Masterson Equestrian Trust
REFRESH-INTERVAL;VALUE=DURATION:PT1H
X-Robots-Tag:noindex
X-PUBLISHED-TTL:PT1H
BEGIN:VTIMEZONE
TZID:UTC
BEGIN:STANDARD
TZOFFSETFROM:+0000
TZOFFSETTO:+0000
TZNAME:UTC
DTSTART:20240101T000000
END:STANDARD
END:VTIMEZONE
BEGIN:VEVENT
DTSTART;TZID=UTC:20250809T080000
DTEND;TZID=UTC:20250809T170000
DTSTAMP:20260422T003938
CREATED:20250127T142401Z
LAST-MODIFIED:20250707T154824Z
UID:2143-1754726400-1754758800@mastersonequestrian.org
SUMMARY:YEH Qualifier\, NEH/OEH\, Eventing Derby and Trail Obstacle Course
DESCRIPTION:Divisions:\nStarter 2’3” max height\, 300 mpm\nBeginner Novice 2’7” max height\, 325 mpm\nNovice 2’11” max height\, 350 mpm\nDressage Tests: 2022 USEA Starter Test\,\n2022 USEA Beginner Novice Test B\,\nand 2022 USEA Novice Test B \nEntry Fee $115/round\nRibbons 1st-6th and TIP Awards \nOrganizer: Shelley Ryan\nshelleywryan@gmail.com\nSecretary: Heather Quinlan\nmet.ky.secretary@gmail.com\nYEH\, NEH\, and OEH on Xentry ONLY Eventing\nDerby Enter on BLUEHORSE ENTRIES \nhttps://useventing.com/events-\ncompetitions/calendar/event?event=18890 \nOPENING DATE: June 24\, 2025\nCLOSING DATE: July 22\, 2025\nLATE ENTRIES at the Discretion of the\nSecretary with $25 Late Fee\nRefunds: Before C.D.- less $25 admin fee. After\noriginal CD (07/22/2025) – no refund unless spot\ncan be filled from wait list. Competition\ncancellation: No Refund. \nRequired Safety Equipment: ASTM-\nApproved helmet\, boots\, medical armbands\, and protective vest. Penny number holder\nrequired. \nPenalties/Errors:\nShow Jump/rail…… 4 penalties\n1st Disobedience …… 4 penalties\n2nd Disobedience …… 8 penalties\n3rd Disobedience\, Fall of Horse or Rider\, Exceeds Time\, Course Error Not Rectified ……Elimination\nExceeding Optimum Time …… 4 penalty/sec Cross Country\n1st Disobedience Cross Country …… 20 penalties\n2nd Disobedience Cross Country …… per USEA Rules \nSanctioned with MSEDA \nVeterinarian on Call: Park Equine Hospital \nStabling Extremely Limited: $35 Friday\nnight only and Saturday Day\, Straw Only\,\nStalls must be stripped upon departure
URL:https://mastersonequestrian.org/event/neh-yeh-qualifier-eventing-derby-and-trail-obstacle-course-2/
LOCATION:Masterson Station Park\, 3051 Leestown Rd\, Lexington\, KY\, 40356\, United States
END:VEVENT
BEGIN:VEVENT
DTSTART;TZID=UTC:20251026T080000
DTEND;TZID=UTC:20251026T170000
DTSTAMP:20260422T003938
CREATED:20250127T142458Z
LAST-MODIFIED:20251022T223927Z
UID:2145-1761465600-1761498000@mastersonequestrian.org
SUMMARY:MET's Annual Hunter Pace and Trail Obstacle Course
DESCRIPTION:For more info\, visit our FB Event Page! https://www.facebook.com/events/673805898882216 \nSign Up: HERE
URL:https://mastersonequestrian.org/event/mets-annual-hunter-pace-and-trail-obstacle-course/
LOCATION:Masterson Station Park\, 3051 Leestown Rd\, Lexington\, KY\, 40356\, United States
END:VEVENT
BEGIN:VEVENT
DTSTART;VALUE=DATE:20260509
DTEND;VALUE=DATE:20260510
DTSTAMP:20260422T003938
CREATED:20260311T130806Z
LAST-MODIFIED:20260421T134901Z
UID:2302-1778284800-1778371199@mastersonequestrian.org
SUMMARY:Sayre Horse Show
DESCRIPTION:Sayre School CT and Dressage Show 2026 – Omnibous \n  \nEnter HERE!
URL:https://mastersonequestrian.org/event/sayre-horse-show/
LOCATION:Masterson Station Park\, 3051 Leestown Rd\, Lexington\, KY\, 40356\, United States
END:VEVENT
BEGIN:VEVENT
DTSTART;TZID=UTC:20260704T080000
DTEND;TZID=UTC:20260704T170000
DTSTAMP:20260422T003938
CREATED:20260421T131055Z
LAST-MODIFIED:20260421T132149Z
UID:2310-1783152000-1783184400@mastersonequestrian.org
SUMMARY:MET Ride - A - Test and Jump Around
DESCRIPTION:
URL:https://mastersonequestrian.org/event/met-ride-a-test-and-jump-around/
LOCATION:Masterson Equestrian
END:VEVENT
BEGIN:VEVENT
DTSTART;TZID=UTC:20260808T080000
DTEND;TZID=UTC:20260808T170000
DTSTAMP:20260422T003938
CREATED:20260421T131225Z
LAST-MODIFIED:20260421T131233Z
UID:2312-1786176000-1786208400@mastersonequestrian.org
SUMMARY:YEH Qualifier\, Eventing Derby and Ride - A - Test
DESCRIPTION:
URL:https://mastersonequestrian.org/event/yeh-qualifier-eventing-derby-and-ride-a-test/
END:VEVENT
BEGIN:VEVENT
DTSTART;TZID=UTC:20261003T080000
DTEND;TZID=UTC:20261003T170000
DTSTAMP:20260422T003938
CREATED:20260421T131321Z
LAST-MODIFIED:20260421T131321Z
UID:2314-1791014400-1791046800@mastersonequestrian.org
SUMMARY:Just Jump It!
DESCRIPTION:
URL:https://mastersonequestrian.org/event/just-jump-it/
END:VEVENT
BEGIN:VEVENT
DTSTART;TZID=UTC:20261025T080000
DTEND;TZID=UTC:20261025T140000
DTSTAMP:20260422T003938
CREATED:20260421T131422Z
LAST-MODIFIED:20260421T131422Z
UID:2316-1792915200-1792936800@mastersonequestrian.org
SUMMARY:MET's Annual Benefit Hunter Pace
DESCRIPTION:
URL:https://mastersonequestrian.org/event/mets-annual-benefit-hunter-pace-2/
END:VEVENT
END:VCALENDAR