BEGIN:VCALENDAR
VERSION:2.0
PRODID:-//Masterson Equestrian Trust - ECPv6.15.20//NONSGML v1.0//EN
CALSCALE:GREGORIAN
METHOD:PUBLISH
X-WR-CALNAME:Masterson Equestrian Trust
X-ORIGINAL-URL:https://mastersonequestrian.org
X-WR-CALDESC:Events for Masterson Equestrian Trust
REFRESH-INTERVAL;VALUE=DURATION:PT1H
X-Robots-Tag:noindex
X-PUBLISHED-TTL:PT1H
BEGIN:VTIMEZONE
TZID:UTC
BEGIN:STANDARD
TZOFFSETFROM:+0000
TZOFFSETTO:+0000
TZNAME:UTC
DTSTART:20170101T000000
END:STANDARD
END:VTIMEZONE
BEGIN:VEVENT
DTSTART;TZID=UTC:20180606T163000
DTEND;TZID=UTC:20180606T213000
DTSTAMP:20260424T003958
CREATED:20180219T212419Z
LAST-MODIFIED:20180219T212419Z
UID:1122-1528302600-1528320600@mastersonequestrian.org
SUMMARY:Summer Bird Dressage
DESCRIPTION:
URL:https://mastersonequestrian.org/event/summer-bird-dressage/
LOCATION:Masterson Station Park\, 3051 Leestown Rd\, Lexington\, KY\, 40356\, United States
END:VEVENT
END:VCALENDAR