BEGIN:VCALENDAR
VERSION:2.0
PRODID:-//Masterson Equestrian Trust - ECPv6.15.20//NONSGML v1.0//EN
CALSCALE:GREGORIAN
METHOD:PUBLISH
X-WR-CALNAME:Masterson Equestrian Trust
X-ORIGINAL-URL:https://mastersonequestrian.org
X-WR-CALDESC:Events for Masterson Equestrian Trust
REFRESH-INTERVAL;VALUE=DURATION:PT1H
X-Robots-Tag:noindex
X-PUBLISHED-TTL:PT1H
BEGIN:VTIMEZONE
TZID:UTC
BEGIN:STANDARD
TZOFFSETFROM:+0000
TZOFFSETTO:+0000
TZNAME:UTC
DTSTART:20170101T000000
END:STANDARD
END:VTIMEZONE
BEGIN:VEVENT
DTSTART;TZID=UTC:20181104T080000
DTEND;TZID=UTC:20181104T140000
DTSTAMP:20260423T180621
CREATED:20180217T020302Z
LAST-MODIFIED:20181003T193004Z
UID:1101-1541318400-1541340000@mastersonequestrian.org
SUMMARY:MET Benefit Fall Hunter Pace
DESCRIPTION:Masterson Equestrian Trust (MET) Benefit Hunter Pace benefits the equine facilities at Masterson Station Park\, located on Leestown Road in Lexington\, Kentucky. 3051 Leestown Rd\, Lexington\, KY 40511 \nThe MET Hunter Pace is a unique opportunity to bring riders of all disciplines—English and Western competitors\, Trail Riders\, Dressage competitors\, etc.—together for a day of fun. The Hunter Pace is an event that is relatively ‘unique’ to the equestrian community outside of the foxhunting world\, it will draw some new people to the park\, both as competitors and as spectators. \nHunter Pace date: Sunday\, November 4th\, 9AM-2PM (registration 8:00AM). \n 
URL:https://mastersonequestrian.org/event/met-benefit-fall-hunter-pace/
LOCATION:Masterson Station Park\, 3051 Leestown Rd\, Lexington\, KY\, 40356\, United States
ORGANIZER;CN="Jenny Van Wieren-Page":MAILTO:msugradjvw@yahoo.com
END:VEVENT
END:VCALENDAR