BEGIN:VCALENDAR
VERSION:2.0
PRODID:-//Masterson Equestrian Trust - ECPv6.15.20//NONSGML v1.0//EN
CALSCALE:GREGORIAN
METHOD:PUBLISH
X-ORIGINAL-URL:https://mastersonequestrian.org
X-WR-CALDESC:Events for Masterson Equestrian Trust
REFRESH-INTERVAL;VALUE=DURATION:PT1H
X-Robots-Tag:noindex
X-PUBLISHED-TTL:PT1H
BEGIN:VTIMEZONE
TZID:UTC
BEGIN:STANDARD
TZOFFSETFROM:+0000
TZOFFSETTO:+0000
TZNAME:UTC
DTSTART:20180101T000000
END:STANDARD
END:VTIMEZONE
BEGIN:VEVENT
DTSTART;TZID=UTC:20190406T070000
DTEND;TZID=UTC:20190406T130000
DTSTAMP:20260423T105551
CREATED:20190215T175904Z
LAST-MODIFIED:20190215T175904Z
UID:1317-1554534000-1554555600@mastersonequestrian.org
SUMMARY:Lions Club South - 5K Run for Sight
DESCRIPTION:
URL:https://mastersonequestrian.org/event/lions-club-south-5k-run-for-sight/
LOCATION:Masterson Station Park\, 3051 Leestown Rd\, Lexington\, KY\, 40356\, United States
END:VEVENT
BEGIN:VEVENT
DTSTART;TZID=UTC:20190407T080000
DTEND;TZID=UTC:20190407T170000
DTSTAMP:20260423T105551
CREATED:20190215T175057Z
LAST-MODIFIED:20190215T175057Z
UID:1305-1554624000-1554656400@mastersonequestrian.org
SUMMARY:Spring Bay HT
DESCRIPTION:
URL:https://mastersonequestrian.org/event/spring-bay-ht/
ORGANIZER;CN="Mary Fike":MAILTO:hmf@iglou.com
END:VEVENT
BEGIN:VEVENT
DTSTART;TZID=UTC:20190413T080000
DTEND;TZID=UTC:20190413T140000
DTSTAMP:20260423T105551
CREATED:20190215T175719Z
LAST-MODIFIED:20190215T175719Z
UID:1315-1555142400-1555164000@mastersonequestrian.org
SUMMARY:The Great Pug Run
DESCRIPTION:
URL:https://mastersonequestrian.org/event/the-great-pug-run/
END:VEVENT
BEGIN:VEVENT
DTSTART;VALUE=DATE:20190420
DTEND;VALUE=DATE:20190422
DTSTAMP:20260423T105551
CREATED:20190214T203818Z
LAST-MODIFIED:20190214T203818Z
UID:1269-1555718400-1555891199@mastersonequestrian.org
SUMMARY:Met's Annual Hunter/Jumper Show
DESCRIPTION:Presented by Kentucky Performance Products!
URL:https://mastersonequestrian.org/event/mets-annual-hunter-jumper-show/
LOCATION:Masterson Station Park\, 3051 Leestown Rd\, Lexington\, KY\, 40356\, United States
ORGANIZER;CN="Christine Siegel":MAILTO:christine@pmadvertising.com
END:VEVENT
END:VCALENDAR