BEGIN:VCALENDAR
VERSION:2.0
PRODID:-//Masterson Equestrian Trust - ECPv6.15.20//NONSGML v1.0//EN
CALSCALE:GREGORIAN
METHOD:PUBLISH
X-ORIGINAL-URL:https://mastersonequestrian.org
X-WR-CALDESC:Events for Masterson Equestrian Trust
REFRESH-INTERVAL;VALUE=DURATION:PT1H
X-Robots-Tag:noindex
X-PUBLISHED-TTL:PT1H
BEGIN:VTIMEZONE
TZID:UTC
BEGIN:STANDARD
TZOFFSETFROM:+0000
TZOFFSETTO:+0000
TZNAME:UTC
DTSTART:20180101T000000
END:STANDARD
END:VTIMEZONE
BEGIN:VEVENT
DTSTART;TZID=UTC:20190902T100000
DTEND;TZID=UTC:20190902T180000
DTSTAMP:20260423T011553
CREATED:20190215T180229Z
LAST-MODIFIED:20190215T180229Z
UID:1323-1567418400-1567447200@mastersonequestrian.org
SUMMARY:Teamsters LOCAL 161
DESCRIPTION:
URL:https://mastersonequestrian.org/event/teamsters-local-161/
LOCATION:Masterson Station Park\, 3051 Leestown Rd\, Lexington\, KY\, 40356\, United States
END:VEVENT
BEGIN:VEVENT
DTSTART;TZID=UTC:20190907T070000
DTEND;TZID=UTC:20190907T180000
DTSTAMP:20260423T011553
CREATED:20190215T181312Z
LAST-MODIFIED:20190215T181312Z
UID:1325-1567839600-1567879200@mastersonequestrian.org
SUMMARY:FCPS XC -  Bluegrass Invitational
DESCRIPTION:
URL:https://mastersonequestrian.org/event/fcps-xc-bluegrass-invitational/
LOCATION:Masterson Station Park\, 3051 Leestown Rd\, Lexington\, KY\, 40356\, United States
END:VEVENT
BEGIN:VEVENT
DTSTART;VALUE=DATE:20190914
DTEND;VALUE=DATE:20190915
DTSTAMP:20260423T011553
CREATED:20190215T181703Z
LAST-MODIFIED:20190215T181703Z
UID:1327-1568419200-1568505599@mastersonequestrian.org
SUMMARY:Down Syndrome Walk
DESCRIPTION:
URL:https://mastersonequestrian.org/event/down-syndrome-walk/
LOCATION:Masterson Station Park\, 3051 Leestown Rd\, Lexington\, KY\, 40356\, United States
END:VEVENT
BEGIN:VEVENT
DTSTART;TZID=UTC:20190915T120000
DTEND;TZID=UTC:20190915T180000
DTSTAMP:20260423T011553
CREATED:20190215T181840Z
LAST-MODIFIED:20190215T181840Z
UID:1329-1568548800-1568570400@mastersonequestrian.org
SUMMARY:FLACA Health Fair
DESCRIPTION:
URL:https://mastersonequestrian.org/event/flaca-health-fair/
LOCATION:Masterson Station Park\, 3051 Leestown Rd\, Lexington\, KY\, 40356\, United States
END:VEVENT
BEGIN:VEVENT
DTSTART;VALUE=DATE:20190916
DTEND;VALUE=DATE:20190922
DTSTAMP:20260423T011553
CREATED:20190215T181929Z
LAST-MODIFIED:20190215T181929Z
UID:1331-1568592000-1569110399@mastersonequestrian.org
SUMMARY:KY Wood Expo
DESCRIPTION:
URL:https://mastersonequestrian.org/event/ky-wood-expo/
LOCATION:Masterson Station Park\, 3051 Leestown Rd\, Lexington\, KY\, 40356\, United States
END:VEVENT
BEGIN:VEVENT
DTSTART;VALUE=DATE:20190929
DTEND;VALUE=DATE:20190930
DTSTAMP:20260423T011553
CREATED:20190215T182024Z
LAST-MODIFIED:20190215T182024Z
UID:1333-1569715200-1569801599@mastersonequestrian.org
SUMMARY:Fire Prevention Fest
DESCRIPTION:
URL:https://mastersonequestrian.org/event/fire-prevention-fest/
LOCATION:Masterson Station Park\, 3051 Leestown Rd\, Lexington\, KY\, 40356\, United States
END:VEVENT
END:VCALENDAR