BEGIN:VCALENDAR
VERSION:2.0
PRODID:-//Masterson Equestrian Trust - ECPv6.15.20//NONSGML v1.0//EN
CALSCALE:GREGORIAN
METHOD:PUBLISH
X-WR-CALNAME:Masterson Equestrian Trust
X-ORIGINAL-URL:https://mastersonequestrian.org
X-WR-CALDESC:Events for Masterson Equestrian Trust
REFRESH-INTERVAL;VALUE=DURATION:PT1H
X-Robots-Tag:noindex
X-PUBLISHED-TTL:PT1H
BEGIN:VTIMEZONE
TZID:UTC
BEGIN:STANDARD
TZOFFSETFROM:+0000
TZOFFSETTO:+0000
TZNAME:UTC
DTSTART:20180101T000000
END:STANDARD
END:VTIMEZONE
BEGIN:VEVENT
DTSTART;TZID=UTC:20191102T080000
DTEND;TZID=UTC:20191102T170000
DTSTAMP:20260422T221913
CREATED:20190215T182521Z
LAST-MODIFIED:20190215T182521Z
UID:1341-1572681600-1572714000@mastersonequestrian.org
SUMMARY:SEC XC Championships
DESCRIPTION:
URL:https://mastersonequestrian.org/event/sec-xc-championships/
LOCATION:Masterson Station Park\, 3051 Leestown Rd\, Lexington\, KY\, 40356\, United States
END:VEVENT
BEGIN:VEVENT
DTSTART;VALUE=DATE:20191103
DTEND;VALUE=DATE:20191104
DTSTAMP:20260422T221913
CREATED:20190214T203930Z
LAST-MODIFIED:20190214T203930Z
UID:1273-1572739200-1572825599@mastersonequestrian.org
SUMMARY:MET's Annual Hunter Pace
DESCRIPTION:
URL:https://mastersonequestrian.org/event/mets-annual-hunter-pace/
LOCATION:Masterson Station Park\, 3051 Leestown Rd\, Lexington\, KY\, 40356\, United States
ORGANIZER;CN="Christine Siegel":MAILTO:christine@pmadvertising.com
END:VEVENT
END:VCALENDAR