BEGIN:VCALENDAR
VERSION:2.0
PRODID:-//Masterson Equestrian Trust - ECPv6.15.20//NONSGML v1.0//EN
CALSCALE:GREGORIAN
METHOD:PUBLISH
X-ORIGINAL-URL:https://mastersonequestrian.org
X-WR-CALDESC:Events for Masterson Equestrian Trust
REFRESH-INTERVAL;VALUE=DURATION:PT1H
X-Robots-Tag:noindex
X-PUBLISHED-TTL:PT1H
BEGIN:VTIMEZONE
TZID:UTC
BEGIN:STANDARD
TZOFFSETFROM:+0000
TZOFFSETTO:+0000
TZNAME:UTC
DTSTART:20210101T000000
END:STANDARD
END:VTIMEZONE
BEGIN:VEVENT
DTSTART;VALUE=DATE:20221106
DTEND;VALUE=DATE:20221107
DTSTAMP:20260420T153717
CREATED:20211109T153440Z
LAST-MODIFIED:20211109T153440Z
UID:1507-1667692800-1667779199@mastersonequestrian.org
SUMMARY:MET's Annual Benefit Hunter Pace
DESCRIPTION:
URL:https://mastersonequestrian.org/event/mets-annual-benefit-hunter-pace/
LOCATION:Masterson Equestrian
END:VEVENT
END:VCALENDAR