BEGIN:VCALENDAR
VERSION:2.0
PRODID:-//Masterson Equestrian Trust - ECPv6.15.20//NONSGML v1.0//EN
CALSCALE:GREGORIAN
METHOD:PUBLISH
X-WR-CALNAME:Masterson Equestrian Trust
X-ORIGINAL-URL:https://mastersonequestrian.org
X-WR-CALDESC:Events for Masterson Equestrian Trust
REFRESH-INTERVAL;VALUE=DURATION:PT1H
X-Robots-Tag:noindex
X-PUBLISHED-TTL:PT1H
BEGIN:VTIMEZONE
TZID:UTC
BEGIN:STANDARD
TZOFFSETFROM:+0000
TZOFFSETTO:+0000
TZNAME:UTC
DTSTART:20230101T000000
END:STANDARD
END:VTIMEZONE
BEGIN:VEVENT
DTSTART;TZID=UTC:20240706T080000
DTEND;TZID=UTC:20240706T170000
DTSTAMP:20260421T095515
CREATED:20231106T195327Z
LAST-MODIFIED:20240520T141630Z
UID:1806-1720252800-1720285200@mastersonequestrian.org
SUMMARY:MET Benefit Combined Test\, Dressage Show and Obstacle Course
DESCRIPTION:Sign up for the Trail Obstacle Course  HERE—–> https://bluehorseentries.com/events/met-obstacles-playday-and-trail-competition \nSign up for the CT and Dressage Show HERE—–> https://bluehorseentries.com/events/masterson-equestrian-trust-combined-test-and-dressage-show-2
URL:https://mastersonequestrian.org/event/met-benefit-combined-test-and-dressage-show/
LOCATION:Masterson Station Park\, 3051 Leestown Rd\, Lexington\, KY\, 40356\, United States
END:VEVENT
END:VCALENDAR