BEGIN:VCALENDAR
VERSION:2.0
PRODID:-//Masterson Equestrian Trust - ECPv6.15.20//NONSGML v1.0//EN
CALSCALE:GREGORIAN
METHOD:PUBLISH
X-WR-CALNAME:Masterson Equestrian Trust
X-ORIGINAL-URL:https://mastersonequestrian.org
X-WR-CALDESC:Events for Masterson Equestrian Trust
REFRESH-INTERVAL;VALUE=DURATION:PT1H
X-Robots-Tag:noindex
X-PUBLISHED-TTL:PT1H
BEGIN:VTIMEZONE
TZID:UTC
BEGIN:STANDARD
TZOFFSETFROM:+0000
TZOFFSETTO:+0000
TZNAME:UTC
DTSTART:20240101T000000
END:STANDARD
END:VTIMEZONE
BEGIN:VEVENT
DTSTART;TZID=UTC:20250510T080000
DTEND;TZID=UTC:20250510T170000
DTSTAMP:20260421T142607
CREATED:20250127T142229Z
LAST-MODIFIED:20250211T133424Z
UID:2141-1746864000-1746896400@mastersonequestrian.org
SUMMARY:Sayre School Combined Test and Dressage Show
DESCRIPTION:  \nClick Below to read the Omnibus \nSayre School CT and Dressage Show 2025
URL:https://mastersonequestrian.org/event/sayre-school-combined-test-and-dressage-show/
LOCATION:Masterson Station Park\, 3051 Leestown Rd\, Lexington\, KY\, 40356\, United States
END:VEVENT
END:VCALENDAR